BEGIN:VCALENDAR
VERSION:2.0
PRODID:icalendar-ruby
CALSCALE:GREGORIAN
METHOD:PUBLISH
BEGIN:VEVENT
DTSTAMP:20260424T220740Z
UID:5-467866@decorahfirstunitedmethodist.org
DTSTART:20261101T160000Z
DTEND:20261101T170000Z
CLASS:PUBLIC
CREATED:20260424T160332
DESCRIPTION:Sunday Worship
LAST-MODIFIED:20260424T160332
LOCATION:
SUMMARY:Sunday Worship
URL;VALUE=URI:https://decorahfirstunitedmethodist.org/events/sunday-worship
 /2026-11-01
END:VEVENT
END:VCALENDAR
