BEGIN:VCALENDAR
VERSION:2.0
PRODID:icalendar-ruby
CALSCALE:GREGORIAN
METHOD:PUBLISH
BEGIN:VEVENT
DTSTAMP:20260424T192906Z
UID:5-467524@decorahfirstunitedmethodist.org
DTSTART:20261018T150000Z
DTEND:20261018T160000Z
CLASS:PUBLIC
CREATED:20260424T131549
DESCRIPTION:Sunday Worship
LAST-MODIFIED:20260424T131549
LOCATION:
SUMMARY:Sunday Worship
URL;VALUE=URI:https://decorahfirstunitedmethodist.org/events/sunday-worship
 /2026-10-18
END:VEVENT
END:VCALENDAR
