BEGIN:VCALENDAR
VERSION:2.0
PRODID:icalendar-ruby
CALSCALE:GREGORIAN
METHOD:PUBLISH
BEGIN:VEVENT
DTSTAMP:20260424T180833Z
UID:5-467183@decorahfirstunitedmethodist.org
DTSTART:20261011T150000Z
DTEND:20261011T160000Z
CLASS:PUBLIC
CREATED:20260424T102955
DESCRIPTION:Sunday Worship
LAST-MODIFIED:20260424T102955
LOCATION:
SUMMARY:Sunday Worship
URL;VALUE=URI:https://decorahfirstunitedmethodist.org/events/sunday-worship
 /2026-10-11
END:VEVENT
END:VCALENDAR
