BEGIN:VCALENDAR
VERSION:2.0
PRODID:icalendar-ruby
CALSCALE:GREGORIAN
METHOD:PUBLISH
BEGIN:VEVENT
DTSTAMP:20260424T165021Z
UID:5-467182@decorahfirstunitedmethodist.org
DTSTART:20261004T150000Z
DTEND:20261004T160000Z
CLASS:PUBLIC
CREATED:20260424T102955
DESCRIPTION:Sunday Worship
LAST-MODIFIED:20260424T102955
LOCATION:
SUMMARY:Sunday Worship
URL;VALUE=URI:https://decorahfirstunitedmethodist.org/events/sunday-worship
 /2026-10-04
END:VEVENT
END:VCALENDAR
