BEGIN:VCALENDAR
VERSION:2.0
PRODID:icalendar-ruby
CALSCALE:GREGORIAN
METHOD:PUBLISH
BEGIN:VEVENT
DTSTAMP:20260424T152936Z
UID:5-466841@decorahfirstunitedmethodist.org
DTSTART:20260927T150000Z
DTEND:20260927T160000Z
CLASS:PUBLIC
CREATED:20260424T073710
DESCRIPTION:Sunday Worship
LAST-MODIFIED:20260424T073710
LOCATION:
SUMMARY:Sunday Worship
URL;VALUE=URI:https://decorahfirstunitedmethodist.org/events/sunday-worship
 /2026-09-27
END:VEVENT
END:VCALENDAR
